BEGIN:VCALENDAR
VERSION:2.0
PRODID:-//WhenKickoff//Match Reminder//EN
BEGIN:VEVENT
UID:wk-551943-15@whenkickoff.com
DTSTAMP:20260420T043208Z
DTSTART:20260120T200000Z
DTEND:20260120T220000Z
SUMMARY:Tottenham Hotspur FC vs Borussia Dortmund
DESCRIPTION:WhenKickoff reminder for Tottenham Hotspur FC vs Borussia Dortmund
URL:https://whenkickoff.com/en/match/tottenham-hotspur-fc-vs-borussia-dortmund-551943/
BEGIN:VALARM
TRIGGER:-PT15M
ACTION:DISPLAY
DESCRIPTION:Match starts soon
END:VALARM
END:VEVENT
END:VCALENDAR
