BEGIN:VCALENDAR
VERSION:2.0
PRODID:-//WhenKickoff//Match Reminder//EN
BEGIN:VEVENT
UID:wk-551929-15@whenkickoff.com
DTSTAMP:20260420T001746Z
DTSTART:20260120T200000Z
DTEND:20260120T220000Z
SUMMARY:Real Madrid CF vs AS Monaco FC
DESCRIPTION:WhenKickoff reminder for Real Madrid CF vs AS Monaco FC
URL:https://whenkickoff.com/en/match/real-madrid-cf-vs-as-monaco-fc-551929/
BEGIN:VALARM
TRIGGER:-PT15M
ACTION:DISPLAY
DESCRIPTION:Match starts soon
END:VALARM
END:VEVENT
END:VCALENDAR
