BEGIN:VCALENDAR
VERSION:2.0
PRODID:-//WhenKickoff//Match Reminder//EN
BEGIN:VEVENT
UID:wk-551914-15@whenkickoff.com
DTSTAMP:20260420T001808Z
DTSTART:20260121T200000Z
DTEND:20260121T220000Z
SUMMARY:FC Bayern München vs Royale Union Saint-Gilloise
DESCRIPTION:WhenKickoff reminder for FC Bayern München vs Royale Union Saint-Gilloise
URL:https://whenkickoff.com/en/match/fc-bayern-m-nchen-vs-royale-union-saint-gilloise-551914/
BEGIN:VALARM
TRIGGER:-PT15M
ACTION:DISPLAY
DESCRIPTION:Match starts soon
END:VALARM
END:VEVENT
END:VCALENDAR
