BEGIN:VCALENDAR
VERSION:2.0
PRODID:-//WhenKickoff//Match Reminder//EN
BEGIN:VEVENT
UID:wk-545987-15@whenkickoff.com
DTSTAMP:20260419T231151Z
DTSTART:20260503T000000Z
DTEND:20260503T020000Z
SUMMARY:Sporting Clube de Braga vs GD Estoril Praia
DESCRIPTION:WhenKickoff reminder for Sporting Clube de Braga vs GD Estoril Praia
URL:https://whenkickoff.com/en/match/sporting-clube-de-braga-vs-gd-estoril-praia-545987/
BEGIN:VALARM
TRIGGER:-PT15M
ACTION:DISPLAY
DESCRIPTION:Match starts soon
END:VALARM
END:VEVENT
END:VCALENDAR
