BEGIN:VCALENDAR
VERSION:2.0
PRODID:-//WhenKickoff//Match Reminder//EN
BEGIN:VEVENT
UID:wk-545983-15@whenkickoff.com
DTSTAMP:20260419T231150Z
DTSTART:20260503T000000Z
DTEND:20260503T020000Z
SUMMARY:FC Famalicão vs Sport Lisboa e Benfica
DESCRIPTION:WhenKickoff reminder for FC Famalicão vs Sport Lisboa e Benfica
URL:https://whenkickoff.com/en/match/fc-famalic-o-vs-sport-lisboa-e-benfica-545983/
BEGIN:VALARM
TRIGGER:-PT15M
ACTION:DISPLAY
DESCRIPTION:Match starts soon
END:VALARM
END:VEVENT
END:VCALENDAR
