BEGIN:VCALENDAR
VERSION:2.0
PRODID:-//WhenKickoff//Match Reminder//EN
BEGIN:VEVENT
UID:wk-545982-15@whenkickoff.com
DTSTAMP:20260419T231152Z
DTSTART:20260503T000000Z
DTEND:20260503T020000Z
SUMMARY:Rio Ave FC vs Gil Vicente FC
DESCRIPTION:WhenKickoff reminder for Rio Ave FC vs Gil Vicente FC
URL:https://whenkickoff.com/en/match/rio-ave-fc-vs-gil-vicente-fc-545982/
BEGIN:VALARM
TRIGGER:-PT15M
ACTION:DISPLAY
DESCRIPTION:Match starts soon
END:VALARM
END:VEVENT
END:VCALENDAR
