BEGIN:VCALENDAR
VERSION:2.0
PRODID:-//WhenKickoff//Match Reminder//EN
BEGIN:VEVENT
UID:wk-545981-15@whenkickoff.com
DTSTAMP:20260419T211109Z
DTSTART:20260503T000000Z
DTEND:20260503T020000Z
SUMMARY:FC Porto vs FC Alverca
DESCRIPTION:WhenKickoff reminder for FC Porto vs FC Alverca
URL:https://whenkickoff.com/en/match/fc-porto-vs-fc-alverca-545981/
BEGIN:VALARM
TRIGGER:-PT15M
ACTION:DISPLAY
DESCRIPTION:Match starts soon
END:VALARM
END:VEVENT
END:VCALENDAR
