BEGIN:VCALENDAR
VERSION:2.0
PRODID:-//WhenKickoff//Match Reminder//EN
BEGIN:VEVENT
UID:wk-545979-15@whenkickoff.com
DTSTAMP:20260419T211243Z
DTSTART:20260503T000000Z
DTEND:20260503T020000Z
SUMMARY:CD Nacional vs AVS
DESCRIPTION:WhenKickoff reminder for CD Nacional vs AVS
URL:https://whenkickoff.com/en/match/cd-nacional-vs-avs-545979/
BEGIN:VALARM
TRIGGER:-PT15M
ACTION:DISPLAY
DESCRIPTION:Match starts soon
END:VALARM
END:VEVENT
END:VCALENDAR
