BEGIN:VCALENDAR
VERSION:2.0
PRODID:-//WhenKickoff//Match Reminder//EN
BEGIN:VEVENT
UID:wk-545978-15@whenkickoff.com
DTSTAMP:20260419T123218Z
DTSTART:20260426T000000Z
DTEND:20260426T020000Z
SUMMARY:Vitória SC vs Rio Ave FC
DESCRIPTION:WhenKickoff reminder for Vitória SC vs Rio Ave FC
URL:https://whenkickoff.com/en/match/vit-ria-sc-vs-rio-ave-fc-545978/
BEGIN:VALARM
TRIGGER:-PT15M
ACTION:DISPLAY
DESCRIPTION:Match starts soon
END:VALARM
END:VEVENT
END:VCALENDAR
