BEGIN:VCALENDAR
VERSION:2.0
PRODID:-//WhenKickoff//Match Reminder//EN
BEGIN:VEVENT
UID:wk-545976-15@whenkickoff.com
DTSTAMP:20260419T172928Z
DTSTART:20260426T000000Z
DTEND:20260426T020000Z
SUMMARY:FC Alverca vs FC Arouca
DESCRIPTION:WhenKickoff reminder for FC Alverca vs FC Arouca
URL:https://whenkickoff.com/en/match/fc-alverca-vs-fc-arouca-545976/
BEGIN:VALARM
TRIGGER:-PT15M
ACTION:DISPLAY
DESCRIPTION:Match starts soon
END:VALARM
END:VEVENT
END:VCALENDAR
