BEGIN:VCALENDAR
VERSION:2.0
PRODID:-//WhenKickoff//Match Reminder//EN
BEGIN:VEVENT
UID:wk-545973-15@whenkickoff.com
DTSTAMP:20260419T211109Z
DTSTART:20260426T000000Z
DTEND:20260426T020000Z
SUMMARY:AVS vs Sporting Clube de Portugal
DESCRIPTION:WhenKickoff reminder for AVS vs Sporting Clube de Portugal
URL:https://whenkickoff.com/en/match/avs-vs-sporting-clube-de-portugal-545973/
BEGIN:VALARM
TRIGGER:-PT15M
ACTION:DISPLAY
DESCRIPTION:Match starts soon
END:VALARM
END:VEVENT
END:VCALENDAR
