BEGIN:VCALENDAR
VERSION:2.0
PRODID:-//WhenKickoff//Match Reminder//EN
BEGIN:VEVENT
UID:wk-545950-15@whenkickoff.com
DTSTAMP:20260419T172929Z
DTSTART:20260406T174500Z
DTEND:20260406T194500Z
SUMMARY:FC Arouca vs GD Estoril Praia
DESCRIPTION:WhenKickoff reminder for FC Arouca vs GD Estoril Praia
URL:https://whenkickoff.com/en/match/fc-arouca-vs-gd-estoril-praia-545950/
BEGIN:VALARM
TRIGGER:-PT15M
ACTION:DISPLAY
DESCRIPTION:Match starts soon
END:VALARM
END:VEVENT
END:VCALENDAR
