BEGIN:VCALENDAR
VERSION:2.0
PRODID:-//WhenKickoff//Match Reminder//EN
BEGIN:VEVENT
UID:wk-545946-15@whenkickoff.com
DTSTAMP:20260419T231157Z
DTSTART:20260404T193000Z
DTEND:20260404T213000Z
SUMMARY:FC Porto vs FC Famalicão
DESCRIPTION:WhenKickoff reminder for FC Porto vs FC Famalicão
URL:https://whenkickoff.com/en/match/fc-porto-vs-fc-famalic-o-545946/
BEGIN:VALARM
TRIGGER:-PT15M
ACTION:DISPLAY
DESCRIPTION:Match starts soon
END:VALARM
END:VEVENT
END:VCALENDAR
