BEGIN:VCALENDAR
VERSION:2.0
PRODID:-//WhenKickoff//Match Reminder//EN
BEGIN:VEVENT
UID:wk-545945-15@whenkickoff.com
DTSTAMP:20260419T123218Z
DTSTART:20260404T170000Z
DTEND:20260404T190000Z
SUMMARY:Rio Ave FC vs FC Alverca
DESCRIPTION:WhenKickoff reminder for Rio Ave FC vs FC Alverca
URL:https://whenkickoff.com/en/match/rio-ave-fc-vs-fc-alverca-545945/
BEGIN:VALARM
TRIGGER:-PT15M
ACTION:DISPLAY
DESCRIPTION:Match starts soon
END:VALARM
END:VEVENT
END:VCALENDAR
