BEGIN:VCALENDAR
VERSION:2.0
PRODID:-//WhenKickoff//Match Reminder//EN
BEGIN:VEVENT
UID:wk-545943-15@whenkickoff.com
DTSTAMP:20260419T231157Z
DTSTART:20260403T143000Z
DTEND:20260403T163000Z
SUMMARY:Gil Vicente FC vs AVS
DESCRIPTION:WhenKickoff reminder for Gil Vicente FC vs AVS
URL:https://whenkickoff.com/en/match/gil-vicente-fc-vs-avs-545943/
BEGIN:VALARM
TRIGGER:-PT15M
ACTION:DISPLAY
DESCRIPTION:Match starts soon
END:VALARM
END:VEVENT
END:VCALENDAR
