BEGIN:VCALENDAR
VERSION:2.0
PRODID:-//WhenKickoff//Match Reminder//EN
BEGIN:VEVENT
UID:wk-545939-15@whenkickoff.com
DTSTAMP:20260419T192358Z
DTSTART:20260321T153000Z
DTEND:20260321T173000Z
SUMMARY:FC Famalicão vs CD Nacional
DESCRIPTION:WhenKickoff reminder for FC Famalicão vs CD Nacional
URL:https://whenkickoff.com/en/match/fc-famalic-o-vs-cd-nacional-545939/
BEGIN:VALARM
TRIGGER:-PT15M
ACTION:DISPLAY
DESCRIPTION:Match starts soon
END:VALARM
END:VEVENT
END:VCALENDAR
