BEGIN:VCALENDAR
VERSION:2.0
PRODID:-//WhenKickoff//Match Reminder//EN
BEGIN:VEVENT
UID:wk-545938-15@whenkickoff.com
DTSTAMP:20260419T211242Z
DTSTART:20260322T180000Z
DTEND:20260322T200000Z
SUMMARY:FC Alverca vs Sporting Clube de Portugal
DESCRIPTION:WhenKickoff reminder for FC Alverca vs Sporting Clube de Portugal
URL:https://whenkickoff.com/en/match/fc-alverca-vs-sporting-clube-de-portugal-545938/
BEGIN:VALARM
TRIGGER:-PT15M
ACTION:DISPLAY
DESCRIPTION:Match starts soon
END:VALARM
END:VEVENT
END:VCALENDAR
