BEGIN:VCALENDAR
VERSION:2.0
PRODID:-//WhenKickoff//Match Reminder//EN
BEGIN:VEVENT
UID:wk-545937-15@whenkickoff.com
DTSTAMP:20260419T123218Z
DTSTART:20260322T153000Z
DTEND:20260322T173000Z
SUMMARY:GD Estoril Praia vs Rio Ave FC
DESCRIPTION:WhenKickoff reminder for GD Estoril Praia vs Rio Ave FC
URL:https://whenkickoff.com/en/match/gd-estoril-praia-vs-rio-ave-fc-545937/
BEGIN:VALARM
TRIGGER:-PT15M
ACTION:DISPLAY
DESCRIPTION:Match starts soon
END:VALARM
END:VEVENT
END:VCALENDAR
