BEGIN:VCALENDAR
VERSION:2.0
PRODID:-//WhenKickoff//Match Reminder//EN
BEGIN:VEVENT
UID:wk-545936-15@whenkickoff.com
DTSTAMP:20260419T201232Z
DTSTART:20260321T153000Z
DTEND:20260321T173000Z
SUMMARY:Moreirense FC vs FC Arouca
DESCRIPTION:WhenKickoff reminder for Moreirense FC vs FC Arouca
URL:https://whenkickoff.com/en/match/moreirense-fc-vs-fc-arouca-545936/
BEGIN:VALARM
TRIGGER:-PT15M
ACTION:DISPLAY
DESCRIPTION:Match starts soon
END:VALARM
END:VEVENT
END:VCALENDAR
