BEGIN:VCALENDAR
VERSION:2.0
PRODID:-//WhenKickoff//Match Reminder//EN
BEGIN:VEVENT
UID:wk-545934-15@whenkickoff.com
DTSTAMP:20260419T225952Z
DTSTART:20260321T203000Z
DTEND:20260321T223000Z
SUMMARY:CD Tondela vs AVS
DESCRIPTION:WhenKickoff reminder for CD Tondela vs AVS
URL:https://whenkickoff.com/en/match/cd-tondela-vs-avs-545934/
BEGIN:VALARM
TRIGGER:-PT15M
ACTION:DISPLAY
DESCRIPTION:Match starts soon
END:VALARM
END:VEVENT
END:VCALENDAR
