BEGIN:VCALENDAR
VERSION:2.0
PRODID:-//WhenKickoff//Match Reminder//EN
BEGIN:VEVENT
UID:wk-545933-15@whenkickoff.com
DTSTAMP:20260419T211244Z
DTSTART:20260315T000000Z
DTEND:20260315T020000Z
SUMMARY:Sporting Clube de Portugal vs CD Tondela
DESCRIPTION:WhenKickoff reminder for Sporting Clube de Portugal vs CD Tondela
URL:https://whenkickoff.com/en/match/sporting-clube-de-portugal-vs-cd-tondela-545933/
BEGIN:VALARM
TRIGGER:-PT15M
ACTION:DISPLAY
DESCRIPTION:Match starts soon
END:VALARM
END:VEVENT
END:VCALENDAR
