BEGIN:VCALENDAR
VERSION:2.0
PRODID:-//WhenKickoff//Match Reminder//EN
BEGIN:VEVENT
UID:wk-545932-15@whenkickoff.com
DTSTAMP:20260419T211243Z
DTSTART:20260314T203000Z
DTEND:20260314T223000Z
SUMMARY:FC Arouca vs Sport Lisboa e Benfica
DESCRIPTION:WhenKickoff reminder for FC Arouca vs Sport Lisboa e Benfica
URL:https://whenkickoff.com/en/match/fc-arouca-vs-sport-lisboa-e-benfica-545932/
BEGIN:VALARM
TRIGGER:-PT15M
ACTION:DISPLAY
DESCRIPTION:Match starts soon
END:VALARM
END:VEVENT
END:VCALENDAR
