BEGIN:VCALENDAR
VERSION:2.0
PRODID:-//WhenKickoff//Match Reminder//EN
BEGIN:VEVENT
UID:wk-545931-15@whenkickoff.com
DTSTAMP:20260419T192357Z
DTSTART:20260315T153000Z
DTEND:20260315T173000Z
SUMMARY:AVS vs CD Santa Clara
DESCRIPTION:WhenKickoff reminder for AVS vs CD Santa Clara
URL:https://whenkickoff.com/en/match/avs-vs-cd-santa-clara-545931/
BEGIN:VALARM
TRIGGER:-PT15M
ACTION:DISPLAY
DESCRIPTION:Match starts soon
END:VALARM
END:VEVENT
END:VCALENDAR
