BEGIN:VCALENDAR
VERSION:2.0
PRODID:-//WhenKickoff//Match Reminder//EN
BEGIN:VEVENT
UID:wk-545929-15@whenkickoff.com
DTSTAMP:20260419T231150Z
DTSTART:20260315T203000Z
DTEND:20260315T223000Z
SUMMARY:FC Porto vs Moreirense FC
DESCRIPTION:WhenKickoff reminder for FC Porto vs Moreirense FC
URL:https://whenkickoff.com/en/match/fc-porto-vs-moreirense-fc-545929/
BEGIN:VALARM
TRIGGER:-PT15M
ACTION:DISPLAY
DESCRIPTION:Match starts soon
END:VALARM
END:VEVENT
END:VCALENDAR
