BEGIN:VCALENDAR
VERSION:2.0
PRODID:-//WhenKickoff//Match Reminder//EN
BEGIN:VEVENT
UID:wk-545925-15@whenkickoff.com
DTSTAMP:20260419T192357Z
DTSTART:20260315T153000Z
DTEND:20260315T173000Z
SUMMARY:CD Nacional vs GD Estoril Praia
DESCRIPTION:WhenKickoff reminder for CD Nacional vs GD Estoril Praia
URL:https://whenkickoff.com/en/match/cd-nacional-vs-gd-estoril-praia-545925/
BEGIN:VALARM
TRIGGER:-PT15M
ACTION:DISPLAY
DESCRIPTION:Match starts soon
END:VALARM
END:VEVENT
END:VCALENDAR
