BEGIN:VCALENDAR
VERSION:2.0
PRODID:-//WhenKickoff//Match Reminder//EN
BEGIN:VEVENT
UID:wk-545924-15@whenkickoff.com
DTSTAMP:20260419T192357Z
DTSTART:20260308T180000Z
DTEND:20260308T200000Z
SUMMARY:Sport Lisboa e Benfica vs FC Porto
DESCRIPTION:WhenKickoff reminder for Sport Lisboa e Benfica vs FC Porto
URL:https://whenkickoff.com/en/match/sport-lisboa-e-benfica-vs-fc-porto-545924/
BEGIN:VALARM
TRIGGER:-PT15M
ACTION:DISPLAY
DESCRIPTION:Match starts soon
END:VALARM
END:VEVENT
END:VCALENDAR
