BEGIN:VCALENDAR
VERSION:2.0
PRODID:-//WhenKickoff//Match Reminder//EN
BEGIN:VEVENT
UID:wk-545922-15@whenkickoff.com
DTSTAMP:20260419T173006Z
DTSTART:20260308T203000Z
DTEND:20260308T223000Z
SUMMARY:CD Santa Clara vs Vitória SC
DESCRIPTION:WhenKickoff reminder for CD Santa Clara vs Vitória SC
URL:https://whenkickoff.com/en/match/cd-santa-clara-vs-vit-ria-sc-545922/
BEGIN:VALARM
TRIGGER:-PT15M
ACTION:DISPLAY
DESCRIPTION:Match starts soon
END:VALARM
END:VEVENT
END:VCALENDAR
