BEGIN:VCALENDAR
VERSION:2.0
PRODID:-//WhenKickoff//Match Reminder//EN
BEGIN:VEVENT
UID:wk-545921-15@whenkickoff.com
DTSTAMP:20260419T173005Z
DTSTART:20260307T153000Z
DTEND:20260307T173000Z
SUMMARY:Moreirense FC vs CD Nacional
DESCRIPTION:WhenKickoff reminder for Moreirense FC vs CD Nacional
URL:https://whenkickoff.com/en/match/moreirense-fc-vs-cd-nacional-545921/
BEGIN:VALARM
TRIGGER:-PT15M
ACTION:DISPLAY
DESCRIPTION:Match starts soon
END:VALARM
END:VEVENT
END:VCALENDAR
