BEGIN:VCALENDAR
VERSION:2.0
PRODID:-//WhenKickoff//Match Reminder//EN
BEGIN:VEVENT
UID:wk-545918-15@whenkickoff.com
DTSTAMP:20260419T192358Z
DTSTART:20260306T201500Z
DTEND:20260306T221500Z
SUMMARY:FC Famalicão vs FC Arouca
DESCRIPTION:WhenKickoff reminder for FC Famalicão vs FC Arouca
URL:https://whenkickoff.com/en/match/fc-famalic-o-vs-fc-arouca-545918/
BEGIN:VALARM
TRIGGER:-PT15M
ACTION:DISPLAY
DESCRIPTION:Match starts soon
END:VALARM
END:VEVENT
END:VCALENDAR
