BEGIN:VCALENDAR
VERSION:2.0
PRODID:-//WhenKickoff//Match Reminder//EN
BEGIN:VEVENT
UID:wk-545917-15@whenkickoff.com
DTSTAMP:20260419T231157Z
DTSTART:20260307T203000Z
DTEND:20260307T223000Z
SUMMARY:GD Estoril Praia vs Casa Pia AC
DESCRIPTION:WhenKickoff reminder for GD Estoril Praia vs Casa Pia AC
URL:https://whenkickoff.com/en/match/gd-estoril-praia-vs-casa-pia-ac-545917/
BEGIN:VALARM
TRIGGER:-PT15M
ACTION:DISPLAY
DESCRIPTION:Match starts soon
END:VALARM
END:VEVENT
END:VCALENDAR
