BEGIN:VCALENDAR
VERSION:2.0
PRODID:-//WhenKickoff//Match Reminder//EN
BEGIN:VEVENT
UID:wk-545916-15@whenkickoff.com
DTSTAMP:20260419T211310Z
DTSTART:20260307T153000Z
DTEND:20260307T173000Z
SUMMARY:FC Alverca vs AVS
DESCRIPTION:WhenKickoff reminder for FC Alverca vs AVS
URL:https://whenkickoff.com/en/match/fc-alverca-vs-avs-545916/
BEGIN:VALARM
TRIGGER:-PT15M
ACTION:DISPLAY
DESCRIPTION:Match starts soon
END:VALARM
END:VEVENT
END:VCALENDAR
