BEGIN:VCALENDAR
VERSION:2.0
PRODID:-//WhenKickoff//Match Reminder//EN
BEGIN:VEVENT
UID:wk-545914-15@whenkickoff.com
DTSTAMP:20260419T211241Z
DTSTART:20260228T153000Z
DTEND:20260228T173000Z
SUMMARY:AVS vs CF Estrela da Amadora
DESCRIPTION:WhenKickoff reminder for AVS vs CF Estrela da Amadora
URL:https://whenkickoff.com/en/match/avs-vs-cf-estrela-da-amadora-545914/
BEGIN:VALARM
TRIGGER:-PT15M
ACTION:DISPLAY
DESCRIPTION:Match starts soon
END:VALARM
END:VEVENT
END:VCALENDAR
