BEGIN:VCALENDAR
VERSION:2.0
PRODID:-//WhenKickoff//Match Reminder//EN
BEGIN:VEVENT
UID:wk-545909-15@whenkickoff.com
DTSTAMP:20260419T172927Z
DTSTART:20260227T184500Z
DTEND:20260227T204500Z
SUMMARY:FC Porto vs FC Arouca
DESCRIPTION:WhenKickoff reminder for FC Porto vs FC Arouca
URL:https://whenkickoff.com/en/match/fc-porto-vs-fc-arouca-545909/
BEGIN:VALARM
TRIGGER:-PT15M
ACTION:DISPLAY
DESCRIPTION:Match starts soon
END:VALARM
END:VEVENT
END:VCALENDAR
