BEGIN:VCALENDAR
VERSION:2.0
PRODID:-//WhenKickoff//Match Reminder//EN
BEGIN:VEVENT
UID:wk-545908-15@whenkickoff.com
DTSTAMP:20260419T172927Z
DTSTART:20260228T203000Z
DTEND:20260228T223000Z
SUMMARY:Vitória SC vs FC Alverca
DESCRIPTION:WhenKickoff reminder for Vitória SC vs FC Alverca
URL:https://whenkickoff.com/en/match/vit-ria-sc-vs-fc-alverca-545908/
BEGIN:VALARM
TRIGGER:-PT15M
ACTION:DISPLAY
DESCRIPTION:Match starts soon
END:VALARM
END:VEVENT
END:VCALENDAR
