BEGIN:VCALENDAR
VERSION:2.0
PRODID:-//WhenKickoff//Match Reminder//EN
BEGIN:VEVENT
UID:wk-545905-15@whenkickoff.com
DTSTAMP:20260419T192357Z
DTSTART:20260221T180000Z
DTEND:20260221T200000Z
SUMMARY:Moreirense FC vs Sporting Clube de Portugal
DESCRIPTION:WhenKickoff reminder for Moreirense FC vs Sporting Clube de Portugal
URL:https://whenkickoff.com/en/match/moreirense-fc-vs-sporting-clube-de-portugal-545905/
BEGIN:VALARM
TRIGGER:-PT15M
ACTION:DISPLAY
DESCRIPTION:Match starts soon
END:VALARM
END:VEVENT
END:VCALENDAR
