BEGIN:VCALENDAR
VERSION:2.0
PRODID:-//WhenKickoff//Match Reminder//EN
BEGIN:VEVENT
UID:wk-545903-15@whenkickoff.com
DTSTAMP:20260419T225952Z
DTSTART:20260221T153000Z
DTEND:20260221T173000Z
SUMMARY:FC Arouca vs CD Nacional
DESCRIPTION:WhenKickoff reminder for FC Arouca vs CD Nacional
URL:https://whenkickoff.com/en/match/fc-arouca-vs-cd-nacional-545903/
BEGIN:VALARM
TRIGGER:-PT15M
ACTION:DISPLAY
DESCRIPTION:Match starts soon
END:VALARM
END:VEVENT
END:VCALENDAR
