BEGIN:VCALENDAR
VERSION:2.0
PRODID:-//WhenKickoff//Match Reminder//EN
BEGIN:VEVENT
UID:wk-545901-15@whenkickoff.com
DTSTAMP:20260419T172927Z
DTSTART:20260220T204500Z
DTEND:20260220T224500Z
SUMMARY:CF Estrela da Amadora vs CD Tondela
DESCRIPTION:WhenKickoff reminder for CF Estrela da Amadora vs CD Tondela
URL:https://whenkickoff.com/en/match/cf-estrela-da-amadora-vs-cd-tondela-545901/
BEGIN:VALARM
TRIGGER:-PT15M
ACTION:DISPLAY
DESCRIPTION:Match starts soon
END:VALARM
END:VEVENT
END:VCALENDAR
