BEGIN:VCALENDAR
VERSION:2.0
PRODID:-//WhenKickoff//Match Reminder//EN
BEGIN:VEVENT
UID:wk-545899-15@whenkickoff.com
DTSTAMP:20260419T192316Z
DTSTART:20260223T201500Z
DTEND:20260223T221500Z
SUMMARY:FC Famalicão vs Casa Pia AC
DESCRIPTION:WhenKickoff reminder for FC Famalicão vs Casa Pia AC
URL:https://whenkickoff.com/en/match/fc-famalic-o-vs-casa-pia-ac-545899/
BEGIN:VALARM
TRIGGER:-PT15M
ACTION:DISPLAY
DESCRIPTION:Match starts soon
END:VALARM
END:VEVENT
END:VCALENDAR
