BEGIN:VCALENDAR
VERSION:2.0
PRODID:-//WhenKickoff//Match Reminder//EN
BEGIN:VEVENT
UID:wk-545898-15@whenkickoff.com
DTSTAMP:20260420T023948Z
DTSTART:20260221T180000Z
DTEND:20260221T200000Z
SUMMARY:Sport Lisboa e Benfica vs AVS
DESCRIPTION:WhenKickoff reminder for Sport Lisboa e Benfica vs AVS
URL:https://whenkickoff.com/en/match/sport-lisboa-e-benfica-vs-avs-545898/
BEGIN:VALARM
TRIGGER:-PT15M
ACTION:DISPLAY
DESCRIPTION:Match starts soon
END:VALARM
END:VEVENT
END:VCALENDAR
