BEGIN:VCALENDAR
VERSION:2.0
PRODID:-//WhenKickoff//Match Reminder//EN
BEGIN:VEVENT
UID:wk-545897-15@whenkickoff.com
DTSTAMP:20260420T061154Z
DTSTART:20260215T153000Z
DTEND:20260215T173000Z
SUMMARY:CD Nacional vs FC Porto
DESCRIPTION:WhenKickoff reminder for CD Nacional vs FC Porto
URL:https://whenkickoff.com/en/match/cd-nacional-vs-fc-porto-545897/
BEGIN:VALARM
TRIGGER:-PT15M
ACTION:DISPLAY
DESCRIPTION:Match starts soon
END:VALARM
END:VEVENT
END:VCALENDAR
