BEGIN:VCALENDAR
VERSION:2.0
PRODID:-//WhenKickoff//Match Reminder//EN
BEGIN:VEVENT
UID:wk-545896-15@whenkickoff.com
DTSTAMP:20260420T054555Z
DTSTART:20260215T180000Z
DTEND:20260215T200000Z
SUMMARY:AVS vs GD Estoril Praia
DESCRIPTION:WhenKickoff reminder for AVS vs GD Estoril Praia
URL:https://whenkickoff.com/en/match/avs-vs-gd-estoril-praia-545896/
BEGIN:VALARM
TRIGGER:-PT15M
ACTION:DISPLAY
DESCRIPTION:Match starts soon
END:VALARM
END:VEVENT
END:VCALENDAR
