BEGIN:VCALENDAR
VERSION:2.0
PRODID:-//WhenKickoff//Match Reminder//EN
BEGIN:VEVENT
UID:wk-545895-15@whenkickoff.com
DTSTAMP:20260420T072903Z
DTSTART:20260213T183000Z
DTEND:20260213T203000Z
SUMMARY:CD Santa Clara vs Sport Lisboa e Benfica
DESCRIPTION:WhenKickoff reminder for CD Santa Clara vs Sport Lisboa e Benfica
URL:https://whenkickoff.com/en/match/cd-santa-clara-vs-sport-lisboa-e-benfica-545895/
BEGIN:VALARM
TRIGGER:-PT15M
ACTION:DISPLAY
DESCRIPTION:Match starts soon
END:VALARM
END:VEVENT
END:VCALENDAR
