BEGIN:VCALENDAR
VERSION:2.0
PRODID:-//WhenKickoff//Match Reminder//EN
BEGIN:VEVENT
UID:wk-545894-15@whenkickoff.com
DTSTAMP:20260420T061155Z
DTSTART:20260214T203000Z
DTEND:20260214T223000Z
SUMMARY:Gil Vicente FC vs Sporting Clube de Braga
DESCRIPTION:WhenKickoff reminder for Gil Vicente FC vs Sporting Clube de Braga
URL:https://whenkickoff.com/en/match/gil-vicente-fc-vs-sporting-clube-de-braga-545894/
BEGIN:VALARM
TRIGGER:-PT15M
ACTION:DISPLAY
DESCRIPTION:Match starts soon
END:VALARM
END:VEVENT
END:VCALENDAR
