BEGIN:VCALENDAR
VERSION:2.0
PRODID:-//WhenKickoff//Match Reminder//EN
BEGIN:VEVENT
UID:wk-545892-15@whenkickoff.com
DTSTAMP:20260420T061156Z
DTSTART:20260215T203000Z
DTEND:20260215T223000Z
SUMMARY:Sporting Clube de Portugal vs FC Famalicão
DESCRIPTION:WhenKickoff reminder for Sporting Clube de Portugal vs FC Famalicão
URL:https://whenkickoff.com/en/match/sporting-clube-de-portugal-vs-fc-famalic-o-545892/
BEGIN:VALARM
TRIGGER:-PT15M
ACTION:DISPLAY
DESCRIPTION:Match starts soon
END:VALARM
END:VEVENT
END:VCALENDAR
