BEGIN:VCALENDAR
VERSION:2.0
PRODID:-//WhenKickoff//Match Reminder//EN
BEGIN:VEVENT
UID:wk-545891-15@whenkickoff.com
DTSTAMP:20260420T061259Z
DTSTART:20260214T153000Z
DTEND:20260214T173000Z
SUMMARY:Casa Pia AC vs FC Arouca
DESCRIPTION:WhenKickoff reminder for Casa Pia AC vs FC Arouca
URL:https://whenkickoff.com/en/match/casa-pia-ac-vs-fc-arouca-545891/
BEGIN:VALARM
TRIGGER:-PT15M
ACTION:DISPLAY
DESCRIPTION:Match starts soon
END:VALARM
END:VEVENT
END:VCALENDAR
