BEGIN:VCALENDAR
VERSION:2.0
PRODID:-//WhenKickoff//Match Reminder//EN
BEGIN:VEVENT
UID:wk-545890-15@whenkickoff.com
DTSTAMP:20260420T072908Z
DTSTART:20260213T204500Z
DTEND:20260213T224500Z
SUMMARY:CD Tondela vs FC Alverca
DESCRIPTION:WhenKickoff reminder for CD Tondela vs FC Alverca
URL:https://whenkickoff.com/en/match/cd-tondela-vs-fc-alverca-545890/
BEGIN:VALARM
TRIGGER:-PT15M
ACTION:DISPLAY
DESCRIPTION:Match starts soon
END:VALARM
END:VEVENT
END:VCALENDAR
