BEGIN:VCALENDAR
VERSION:2.0
PRODID:-//WhenKickoff//Match Reminder//EN
BEGIN:VEVENT
UID:wk-545889-15@whenkickoff.com
DTSTAMP:20260420T054555Z
DTSTART:20260214T180000Z
DTEND:20260214T200000Z
SUMMARY:Vitória SC vs CF Estrela da Amadora
DESCRIPTION:WhenKickoff reminder for Vitória SC vs CF Estrela da Amadora
URL:https://whenkickoff.com/en/match/vit-ria-sc-vs-cf-estrela-da-amadora-545889/
BEGIN:VALARM
TRIGGER:-PT15M
ACTION:DISPLAY
DESCRIPTION:Match starts soon
END:VALARM
END:VEVENT
END:VCALENDAR
