BEGIN:VCALENDAR
VERSION:2.0
PRODID:-//WhenKickoff//Match Reminder//EN
BEGIN:VEVENT
UID:wk-545888-15@whenkickoff.com
DTSTAMP:20260420T124540Z
DTSTART:20260208T180000Z
DTEND:20260208T200000Z
SUMMARY:Sporting Clube de Braga vs Rio Ave FC
DESCRIPTION:WhenKickoff reminder for Sporting Clube de Braga vs Rio Ave FC
URL:https://whenkickoff.com/en/match/sporting-clube-de-braga-vs-rio-ave-fc-545888/
BEGIN:VALARM
TRIGGER:-PT15M
ACTION:DISPLAY
DESCRIPTION:Match starts soon
END:VALARM
END:VEVENT
END:VCALENDAR
