BEGIN:VCALENDAR
VERSION:2.0
PRODID:-//WhenKickoff//Match Reminder//EN
BEGIN:VEVENT
UID:wk-545885-15@whenkickoff.com
DTSTAMP:20260420T132157Z
DTSTART:20260207T180000Z
DTEND:20260207T200000Z
SUMMARY:GD Estoril Praia vs CD Tondela
DESCRIPTION:WhenKickoff reminder for GD Estoril Praia vs CD Tondela
URL:https://whenkickoff.com/en/match/gd-estoril-praia-vs-cd-tondela-545885/
BEGIN:VALARM
TRIGGER:-PT15M
ACTION:DISPLAY
DESCRIPTION:Match starts soon
END:VALARM
END:VEVENT
END:VCALENDAR
