BEGIN:VCALENDAR
VERSION:2.0
PRODID:-//WhenKickoff//Match Reminder//EN
BEGIN:VEVENT
UID:wk-545881-15@whenkickoff.com
DTSTAMP:20260420T121924Z
DTSTART:20260208T153000Z
DTEND:20260208T173000Z
SUMMARY:CD Nacional vs Casa Pia AC
DESCRIPTION:WhenKickoff reminder for CD Nacional vs Casa Pia AC
URL:https://whenkickoff.com/en/match/cd-nacional-vs-casa-pia-ac-545881/
BEGIN:VALARM
TRIGGER:-PT15M
ACTION:DISPLAY
DESCRIPTION:Match starts soon
END:VALARM
END:VEVENT
END:VCALENDAR
